BEGIN:VCALENDAR
VERSION:2.0
PRODID:-//British Butler Institute - ECPv6.15.13//NONSGML v1.0//EN
CALSCALE:GREGORIAN
METHOD:PUBLISH
X-WR-CALNAME:British Butler Institute
X-ORIGINAL-URL:https://www.britishbutlerinstitute.com
X-WR-CALDESC:Events for British Butler Institute
REFRESH-INTERVAL;VALUE=DURATION:PT1H
X-Robots-Tag:noindex
X-PUBLISHED-TTL:PT1H
BEGIN:VTIMEZONE
TZID:Europe/London
BEGIN:DAYLIGHT
TZOFFSETFROM:+0000
TZOFFSETTO:+0100
TZNAME:BST
DTSTART:20230326T010000
END:DAYLIGHT
BEGIN:STANDARD
TZOFFSETFROM:+0100
TZOFFSETTO:+0000
TZNAME:GMT
DTSTART:20231029T010000
END:STANDARD
BEGIN:DAYLIGHT
TZOFFSETFROM:+0000
TZOFFSETTO:+0100
TZNAME:BST
DTSTART:20240331T010000
END:DAYLIGHT
BEGIN:STANDARD
TZOFFSETFROM:+0100
TZOFFSETTO:+0000
TZNAME:GMT
DTSTART:20241027T010000
END:STANDARD
BEGIN:DAYLIGHT
TZOFFSETFROM:+0000
TZOFFSETTO:+0100
TZNAME:BST
DTSTART:20250330T010000
END:DAYLIGHT
BEGIN:STANDARD
TZOFFSETFROM:+0100
TZOFFSETTO:+0000
TZNAME:GMT
DTSTART:20251026T010000
END:STANDARD
BEGIN:DAYLIGHT
TZOFFSETFROM:+0000
TZOFFSETTO:+0100
TZNAME:BST
DTSTART:20260329T010000
END:DAYLIGHT
BEGIN:STANDARD
TZOFFSETFROM:+0100
TZOFFSETTO:+0000
TZNAME:GMT
DTSTART:20261025T010000
END:STANDARD
END:VTIMEZONE
BEGIN:VEVENT
DTSTART;TZID=Europe/London:20250925T090000
DTEND;TZID=Europe/London:20250925T123000
DTSTAMP:20260422T174753
CREATED:20241211T090913Z
LAST-MODIFIED:20250723T091813Z
UID:10000250-1758790800-1758803400@www.britishbutlerinstitute.com
SUMMARY:September 2025\, Confidence & Deportment Certification Programme (Half Day)
DESCRIPTION:Included in the Price:\nPlease download the  Student Information Document for full course details.\nOfficial lapel pin badge…\nNow available for all qualifying students.\n\n**IMPORTANT Download the Enrolment Form **\nPlease Read: By paying for the course and securing your place you agree to have read the terms and conditions set out on the enrolment form and are bound by these conditions.\nDownload
URL:https://www.britishbutlerinstitute.com/courses/september-2025-half-day-confidence-deportment-certification-programme/
LOCATION:Taj Hotel\, London\, 54 Buckingham Gate\, London\, SW1E6AF\, United Kingdom
CATEGORIES:Confidence & Deportment,Finishing School Courses,Generic content
ATTACH;FMTTYPE=image/jpeg:https://www.britishbutlerinstitute.com/wp-content/uploads/2020/09/confidence.jpg
END:VEVENT
BEGIN:VEVENT
DTSTART;TZID=Europe/London:20250923T133000
DTEND;TZID=Europe/London:20250923T160000
DTSTAMP:20260422T174753
CREATED:20241211T090913Z
LAST-MODIFIED:20250723T091439Z
UID:10000249-1758634200-1758643200@www.britishbutlerinstitute.com
SUMMARY:September 2025\, English Afternoon Tea & High Tea Programme (Half Day)
DESCRIPTION:Included in the Price:\nPlease download the  Student Information Document for full course details.\nOfficial lapel pin badge…\nNow available for all qualifying students.\n\n**IMPORTANT Download the Enrolment Form **\nPlease Read: By paying for the course and securing your place you agree to have read the terms and conditions set out on the enrolment form and are bound by these conditions.\nDownload
URL:https://www.britishbutlerinstitute.com/courses/september-2025-english-afternoon-tea-high-tea-programme-half-day/
LOCATION:Taj Hotel\, London\, 54 Buckingham Gate\, London\, SW1E6AF\, United Kingdom
CATEGORIES:English Afternoon Tea & High Tea,Finishing School Courses,Generic content
ATTACH;FMTTYPE=image/jpeg:https://www.britishbutlerinstitute.com/wp-content/uploads/2023/01/course-afternoon_tea.jpg
END:VEVENT
BEGIN:VEVENT
DTSTART;TZID=Europe/London:20250923T093000
DTEND;TZID=Europe/London:20250923T123000
DTSTAMP:20260422T174753
CREATED:20241211T090913Z
LAST-MODIFIED:20250723T091516Z
UID:10000248-1758619800-1758630600@www.britishbutlerinstitute.com
SUMMARY:September 2025\, Dining Etiquette Programme (Half Day)
DESCRIPTION:Included in the Price:\nPlease download the  Student Information Document for full course details.\nOfficial lapel pin badge…\nNow available for all qualifying students.\n\n**IMPORTANT Download the Enrolment Form **\nPlease Read: By paying for the course and securing your place you agree to have read the terms and conditions set out on the enrolment form and are bound by these conditions.\nDownload
URL:https://www.britishbutlerinstitute.com/courses/dining-etiquette-programme-half-day-2025/
LOCATION:Taj Hotel\, London\, 54 Buckingham Gate\, London\, SW1E6AF\, United Kingdom
CATEGORIES:Finishing School Courses,Generic content,Silver Service & Dining Etiquette
ATTACH;FMTTYPE=image/jpeg:https://www.britishbutlerinstitute.com/wp-content/uploads/2013/06/finishing-dE_background.jpg
END:VEVENT
BEGIN:VEVENT
DTSTART;TZID=Europe/London:20250922T093000
DTEND;TZID=Europe/London:20250922T123000
DTSTAMP:20260422T174753
CREATED:20241211T090913Z
LAST-MODIFIED:20250723T091850Z
UID:10000251-1758533400-1758544200@www.britishbutlerinstitute.com
SUMMARY:September 2025\, Cigar & Champagne Programme (Half Day)
DESCRIPTION:Included in the Price:\nPlease download the  Student Information Document for full course details.\nOfficial lapel pin badge…\nNow available for all qualifying students.\n\n**IMPORTANT Download the Enrolment Form **\nPlease Read: By paying for the course and securing your place you agree to have read the terms and conditions set out on the enrolment form and are bound by these conditions.\nDownload
URL:https://www.britishbutlerinstitute.com/courses/september-2025-cigar-champagne-cognac-programme-half-day/
LOCATION:Taj Hotel\, London\, 54 Buckingham Gate\, London\, SW1E6AF\, United Kingdom
CATEGORIES:Cigar, Caviar, Champange & Cognac,Finishing School Courses,Generic content
ATTACH;FMTTYPE=image/jpeg:https://www.britishbutlerinstitute.com/wp-content/uploads/2024/12/cigar.jpg
END:VEVENT
BEGIN:VEVENT
DTSTART;TZID=Europe/London:20240924T093000
DTEND;TZID=Europe/London:20240924T160000
DTSTAMP:20260422T174753
CREATED:20240224T092038Z
LAST-MODIFIED:20240915T194736Z
UID:10000219-1727170200-1727193600@www.britishbutlerinstitute.com
SUMMARY:September 2024\, Cigar\, Champagne & Cognac Programme (1 Day)
DESCRIPTION:Included in the Price:\nPlease download the  Student Information Document for full course details.\nOfficial lapel pin badge…\nNow available for all qualifying students.\n\n**IMPORTANT Download the Enrolment Form **\nPlease Read: By paying for the course and securing your place you agree to have read the terms and conditions set out on the enrolment form and are bound by these conditions.\nDownload
URL:https://www.britishbutlerinstitute.com/courses/september-2024-cigar-champagne-cognac-programme-1-day-2/
LOCATION:Taj Hotel\, London\, 54 Buckingham Gate\, London\, SW1E6AF\, United Kingdom
CATEGORIES:Cigar, Caviar, Champange & Cognac,Finishing School Courses,Generic content,sold out
ATTACH;FMTTYPE=image/jpeg:https://www.britishbutlerinstitute.com/wp-content/uploads/2023/01/cigarchampagnecognac.jpg
END:VEVENT
BEGIN:VEVENT
DTSTART;TZID=Europe/London:20240924T093000
DTEND;TZID=Europe/London:20240924T160000
DTSTAMP:20260422T174753
CREATED:20231222T124739Z
LAST-MODIFIED:20240915T194737Z
UID:10000224-1727170200-1727193600@www.britishbutlerinstitute.com
SUMMARY:September 2024\, English Afternoon Tea & High Tea Programme (1 Day)
DESCRIPTION:Included in the Price:\nPlease download the  Student Information Document for full course details.\nOfficial lapel pin badge…\nNow available for all qualifying students.\n\n**IMPORTANT Download the Enrolment Form **\nPlease Read: By paying for the course and securing your place you agree to have read the terms and conditions set out on the enrolment form and are bound by these conditions.\nDownload
URL:https://www.britishbutlerinstitute.com/courses/september-2024-english-afternoon-tea-high-tea-programme-1-day/
LOCATION:Taj Hotel\, London\, 54 Buckingham Gate\, London\, SW1E6AF\, United Kingdom
CATEGORIES:English Afternoon Tea & High Tea,Finishing School Courses,Generic content,sold out
ATTACH;FMTTYPE=image/jpeg:https://www.britishbutlerinstitute.com/wp-content/uploads/2023/01/course-afternoon_tea.jpg
END:VEVENT
BEGIN:VEVENT
DTSTART;TZID=Europe/London:20240923T093000
DTEND;TZID=Europe/London:20240923T160000
DTSTAMP:20260422T174753
CREATED:20231222T124739Z
LAST-MODIFIED:20240915T194737Z
UID:10000223-1727083800-1727107200@www.britishbutlerinstitute.com
SUMMARY:Dining Setup Etiquette & Protocol Programme (1 Day)
DESCRIPTION:Included in the Price:\nPlease download the  Student Information Document for full course details.\nOfficial lapel pin badge…\nNow available for all qualifying students.\n\n**IMPORTANT Download the Enrolment Form **\nPlease Read: By paying for the course and securing your place you agree to have read the terms and conditions set out on the enrolment form and are bound by these conditions.\nDownload
URL:https://www.britishbutlerinstitute.com/courses/dining-setup-etiquette-protocol-programme-1-day/
LOCATION:Taj Hotel\, London\, 54 Buckingham Gate\, London\, SW1E6AF\, United Kingdom
CATEGORIES:Finishing School Courses,Generic content,Silver Service & Dining Etiquette,sold out
ATTACH;FMTTYPE=image/jpeg:https://www.britishbutlerinstitute.com/wp-content/uploads/2023/01/silver-service_dining-etiquette.jpg
END:VEVENT
BEGIN:VEVENT
DTSTART;TZID=Europe/London:20240920T093000
DTEND;TZID=Europe/London:20240920T123000
DTSTAMP:20260422T174753
CREATED:20231222T124739Z
LAST-MODIFIED:20240915T194737Z
UID:10000222-1726824600-1726835400@www.britishbutlerinstitute.com
SUMMARY:September 2024\, Silver Service Programme (Half Day)
DESCRIPTION:Included in the Price:\nPlease download the  Student Information Document for full course details.\nOfficial lapel pin badge…\nNow available for all qualifying students.\n\n**IMPORTANT Download the Enrolment Form **\nPlease Read: By paying for the course and securing your place you agree to have read the terms and conditions set out on the enrolment form and are bound by these conditions.\nDownload
URL:https://www.britishbutlerinstitute.com/courses/september-2024-silver-service-programme-half-day/
LOCATION:Taj Hotel\, London\, 54 Buckingham Gate\, London\, SW1E6AF\, United Kingdom
CATEGORIES:Finishing School Courses,Generic content,Silver Service & Dining Etiquette,sold out
ATTACH;FMTTYPE=image/jpeg:https://www.britishbutlerinstitute.com/wp-content/uploads/2023/01/silver-service_dining-etiquette.jpg
END:VEVENT
BEGIN:VEVENT
DTSTART;TZID=Europe/London:20240917T093000
DTEND;TZID=Europe/London:20240917T160000
DTSTAMP:20260422T174754
CREATED:20231222T124739Z
LAST-MODIFIED:20240915T194737Z
UID:10000221-1726565400-1726588800@www.britishbutlerinstitute.com
SUMMARY:September 2024\, Concierge Excellence Professional Programme (1 Day)
DESCRIPTION:Included in the Price:\nPlease download the  Student Information Document for full course details.\nOfficial lapel pin badge…\nNow available for all qualifying students.\n\n**IMPORTANT Download the Enrolment Form **\nPlease Read: By paying for the course and securing your place you agree to have read the terms and conditions set out on the enrolment form and are bound by these conditions.\nDownload
URL:https://www.britishbutlerinstitute.com/courses/september-2024-concierge-excellence-professional-programme-1-day/
LOCATION:Taj Hotel\, London\, 54 Buckingham Gate\, London\, SW1E6AF\, United Kingdom
CATEGORIES:Concierge Excellence,Finishing School Courses,Generic content,sold out
ATTACH;FMTTYPE=image/jpeg:https://www.britishbutlerinstitute.com/wp-content/uploads/2020/09/concierge.jpg
END:VEVENT
END:VCALENDAR