BEGIN:VCALENDAR
VERSION:2.0
PRODID:-//British Butler Institute - ECPv6.15.13//NONSGML v1.0//EN
CALSCALE:GREGORIAN
METHOD:PUBLISH
X-WR-CALNAME:British Butler Institute
X-ORIGINAL-URL:https://www.britishbutlerinstitute.com
X-WR-CALDESC:Events for British Butler Institute
REFRESH-INTERVAL;VALUE=DURATION:PT1H
X-Robots-Tag:noindex
X-PUBLISHED-TTL:PT1H
BEGIN:VTIMEZONE
TZID:Europe/London
BEGIN:DAYLIGHT
TZOFFSETFROM:+0000
TZOFFSETTO:+0100
TZNAME:BST
DTSTART:20250330T010000
END:DAYLIGHT
BEGIN:STANDARD
TZOFFSETFROM:+0100
TZOFFSETTO:+0000
TZNAME:GMT
DTSTART:20251026T010000
END:STANDARD
BEGIN:DAYLIGHT
TZOFFSETFROM:+0000
TZOFFSETTO:+0100
TZNAME:BST
DTSTART:20260329T010000
END:DAYLIGHT
BEGIN:STANDARD
TZOFFSETFROM:+0100
TZOFFSETTO:+0000
TZNAME:GMT
DTSTART:20261025T010000
END:STANDARD
BEGIN:DAYLIGHT
TZOFFSETFROM:+0000
TZOFFSETTO:+0100
TZNAME:BST
DTSTART:20270328T010000
END:DAYLIGHT
BEGIN:STANDARD
TZOFFSETFROM:+0100
TZOFFSETTO:+0000
TZNAME:GMT
DTSTART:20271031T010000
END:STANDARD
END:VTIMEZONE
BEGIN:VEVENT
DTSTART;TZID=Europe/London:20260918T090000
DTEND;TZID=Europe/London:20260918T123000
DTSTAMP:20260421T173639
CREATED:20251124T084807Z
LAST-MODIFIED:20251124T084807Z
UID:10000300-1789722000-1789734600@www.britishbutlerinstitute.com
SUMMARY:September 2026\, Confidence & Deportment Certification Programme (Half Day)
DESCRIPTION:Included in the Price:\nPlease download the  Student Information Document for full course details.\nOfficial lapel pin badge…\nNow available for all qualifying students.\n\n**IMPORTANT Download the Enrolment Form **\nPlease Read: By paying for the course and securing your place you agree to have read the terms and conditions set out on the enrolment form and are bound by these conditions.\nDownload
URL:https://www.britishbutlerinstitute.com/courses/september-2026-confidence-deportment-certification-programme-half-day/
LOCATION:Taj Hotel\, London\, 54 Buckingham Gate\, London\, SW1E6AF\, United Kingdom
CATEGORIES:Confidence & Deportment,Finishing School Courses,Generic content
ATTACH;FMTTYPE=image/jpeg:https://www.britishbutlerinstitute.com/wp-content/uploads/2020/09/confidence.jpg
END:VEVENT
BEGIN:VEVENT
DTSTART;VALUE=DATE:20260921
DTEND;VALUE=DATE:20260922
DTSTAMP:20260421T173639
CREATED:20251124T084808Z
LAST-MODIFIED:20251124T084808Z
UID:10000295-1789948800-1790035199@www.britishbutlerinstitute.com
SUMMARY:September 2026\, Cigar & Champagne Programme (Half Day)
DESCRIPTION:Included in the Price:\nPlease download the  Student Information Document for full course details.\nOfficial lapel pin badge…\nNow available for all qualifying students.\n\n**IMPORTANT Download the Enrolment Form **\nPlease Read: By paying for the course and securing your place you agree to have read the terms and conditions set out on the enrolment form and are bound by these conditions.\nDownload
URL:https://www.britishbutlerinstitute.com/courses/september-2026-cigar-champagne-programme-half-day/
LOCATION:Taj Hotel\, London\, 54 Buckingham Gate\, London\, SW1E6AF\, United Kingdom
CATEGORIES:Cigar, Caviar, Champange & Cognac,Finishing School Courses,Generic content
ATTACH;FMTTYPE=image/jpeg:https://www.britishbutlerinstitute.com/wp-content/uploads/2024/12/cigar.jpg
END:VEVENT
BEGIN:VEVENT
DTSTART;VALUE=DATE:20260922
DTEND;VALUE=DATE:20260923
DTSTAMP:20260421T173639
CREATED:20251124T084808Z
LAST-MODIFIED:20251124T084808Z
UID:10000296-1790035200-1790121599@www.britishbutlerinstitute.com
SUMMARY:September 2025\, English Afternoon Tea & High Tea Programme (Half Day)
DESCRIPTION:Included in the Price:\nPlease download the  Student Information Document for full course details.\nOfficial lapel pin badge…\nNow available for all qualifying students.\n\n**IMPORTANT Download the Enrolment Form **\nPlease Read: By paying for the course and securing your place you agree to have read the terms and conditions set out on the enrolment form and are bound by these conditions.\nDownload
URL:https://www.britishbutlerinstitute.com/courses/september-2025-english-afternoon-tea-high-tea-programme-half-day-2/
LOCATION:Taj Hotel\, London\, 54 Buckingham Gate\, London\, SW1E6AF\, United Kingdom
CATEGORIES:English Afternoon Tea & High Tea,Finishing School Courses,Generic content
ATTACH;FMTTYPE=image/jpeg:https://www.britishbutlerinstitute.com/wp-content/uploads/2023/01/course-afternoon_tea.jpg
END:VEVENT
BEGIN:VEVENT
DTSTART;VALUE=DATE:20260924
DTEND;VALUE=DATE:20260925
DTSTAMP:20260421T173639
CREATED:20251124T084807Z
LAST-MODIFIED:20251124T084807Z
UID:10000297-1790208000-1790294399@www.britishbutlerinstitute.com
SUMMARY:September 2026\, Dining Etiquette Programme (Half Day)
DESCRIPTION:Included in the Price:\nPlease download the  Student Information Document for full course details.\nOfficial lapel pin badge…\nNow available for all qualifying students.\n\n**IMPORTANT Download the Enrolment Form **\nPlease Read: By paying for the course and securing your place you agree to have read the terms and conditions set out on the enrolment form and are bound by these conditions.\nDownload
URL:https://www.britishbutlerinstitute.com/courses/september-2026-dining-etiquette-programme-half-day/
LOCATION:Taj Hotel\, London\, 54 Buckingham Gate\, London\, SW1E6AF\, United Kingdom
CATEGORIES:Finishing School Courses,Generic content,Silver Service & Dining Etiquette
ATTACH;FMTTYPE=image/jpeg:https://www.britishbutlerinstitute.com/wp-content/uploads/2013/06/finishing-dE_background.jpg
END:VEVENT
END:VCALENDAR