BEGIN:VCALENDAR
VERSION:2.0
PRODID:-//British Butler Institute - ECPv6.15.13//NONSGML v1.0//EN
CALSCALE:GREGORIAN
METHOD:PUBLISH
X-WR-CALNAME:British Butler Institute
X-ORIGINAL-URL:https://www.britishbutlerinstitute.com
X-WR-CALDESC:Events for British Butler Institute
REFRESH-INTERVAL;VALUE=DURATION:PT1H
X-Robots-Tag:noindex
X-PUBLISHED-TTL:PT1H
BEGIN:VTIMEZONE
TZID:America/New_York
BEGIN:DAYLIGHT
TZOFFSETFROM:-0500
TZOFFSETTO:-0400
TZNAME:EDT
DTSTART:20250309T070000
END:DAYLIGHT
BEGIN:STANDARD
TZOFFSETFROM:-0400
TZOFFSETTO:-0500
TZNAME:EST
DTSTART:20251102T060000
END:STANDARD
BEGIN:DAYLIGHT
TZOFFSETFROM:-0500
TZOFFSETTO:-0400
TZNAME:EDT
DTSTART:20260308T070000
END:DAYLIGHT
BEGIN:STANDARD
TZOFFSETFROM:-0400
TZOFFSETTO:-0500
TZNAME:EST
DTSTART:20261101T060000
END:STANDARD
BEGIN:DAYLIGHT
TZOFFSETFROM:-0500
TZOFFSETTO:-0400
TZNAME:EDT
DTSTART:20270314T070000
END:DAYLIGHT
BEGIN:STANDARD
TZOFFSETFROM:-0400
TZOFFSETTO:-0500
TZNAME:EST
DTSTART:20271107T060000
END:STANDARD
END:VTIMEZONE
BEGIN:VEVENT
DTSTART;TZID=America/New_York:20260427T093000
DTEND;TZID=America/New_York:20260501T160000
DTSTAMP:20260421T182613
CREATED:20250908T095700Z
LAST-MODIFIED:20260305T124011Z
UID:10000277-1777282200-1777651200@www.britishbutlerinstitute.com
SUMMARY:USA - April\, 2026 - Luxury Aviation Front of House Professional Programme (5 Day)
DESCRIPTION:USA Aviation Courses in Partnership with DavinciImportant Information\nDownload the Course Programme for full details. \n\n**IMPORTANT Download the Enrolment Form **\nPlease Read: By paying for the course and securing your place you agree to have read the terms and conditions set out on the enrolment form and are bound by these conditions.\nDownload
URL:https://www.britishbutlerinstitute.com/courses/usa-april-2026-luxury-aviation-front-of-house-professional-programme-5-day/
LOCATION:DAVINCI INFLIGHT TRAINING INSTITUTE\, 3330 NW 53rd Street Suite 301\, Fort Lauderdale\, FL\, 33309\, United States
CATEGORIES:Aviation Professional,Aviation USA,Hospitality Training Courses
ATTACH;FMTTYPE=image/jpeg:https://www.britishbutlerinstitute.com/wp-content/uploads/2024/02/Aircraft-practical.jpg
END:VEVENT
BEGIN:VEVENT
DTSTART;TZID=America/New_York:20261102T093000
DTEND;TZID=America/New_York:20261106T160000
DTSTAMP:20260421T182613
CREATED:20260219T140536Z
LAST-MODIFIED:20260219T140536Z
UID:10000302-1793611800-1793980800@www.britishbutlerinstitute.com
SUMMARY:USA - November\, 2026 - Luxury Aviation Front of House Professional Programme (5 Day)
DESCRIPTION:USA Aviation Courses in Partnership with DavinciImportant Information\nDownload the Course Programme for full details. \n\n**IMPORTANT Download the Enrolment Form **\nPlease Read: By paying for the course and securing your place you agree to have read the terms and conditions set out on the enrolment form and are bound by these conditions.\nDownload
URL:https://www.britishbutlerinstitute.com/courses/usa-november-2026-luxury-aviation-front-of-house-professional-programme-5-day/
LOCATION:DAVINCI INFLIGHT TRAINING INSTITUTE\, 3330 NW 53rd Street Suite 301\, Fort Lauderdale\, FL\, 33309\, United States
CATEGORIES:Aviation Professional,Aviation USA,Hospitality Training Courses
ATTACH;FMTTYPE=image/jpeg:https://www.britishbutlerinstitute.com/wp-content/uploads/2024/02/Aircraft-practical.jpg
END:VEVENT
END:VCALENDAR